BEGIN:VCALENDAR
VERSION:2.0
PRODID:-//ChamberMaster//Event Calendar 2.0//EN
METHOD:PUBLISH
X-PUBLISHED-TTL:P3D
REFRESH-INTERVAL:P3D
CALSCALE:GREGORIAN
BEGIN:VEVENT
DTSTART;VALUE=DATE:20180420
DTEND;VALUE=DATE:20180421
TRANSP:TRANSPARENT
X-MICROSOFT-CDO-ALLDAYEVENT:TRUE
SUMMARY:33rd Annual Duke Club Golf Classic
DESCRIPTION:The Duke Club is the primary fundraising arm for the JMU Athletic Department. Registration is $150/player and includes the following: green fees\, golf cart\, unlimited beverages\, pre/post flight hospitality\, exclusive JMU registration gift and assorted awards/prizes. Come out for a fun day of golf\, while helping to support the hard working athletes of JMU.
X-ALT-DESC;FMTTYPE=text/html:The Duke Club is the primary fundraising arm for the JMU Athletic Department. Registration is $150/player and includes the following: green fees\, golf cart\, unlimited beverages\, pre/post flight hospitality\, exclusive JMU registration gift and assorted awards/prizes. Come out for a fun day of golf\, while helping to support the hard working athletes of JMU.
LOCATION:Spotswood Country Club
UID:e.2338.3702
SEQUENCE:3
DTSTAMP:20260420T114007Z
URL:https://chamber.hrchamber.org/events/details/33rd-annual-duke-club-golf-classic-3702
END:VEVENT

END:VCALENDAR
