BEGIN:VCALENDAR
VERSION:2.0
PRODID:-//ChamberMaster//Event Calendar 2.0//EN
METHOD:PUBLISH
X-PUBLISHED-TTL:P3D
REFRESH-INTERVAL:P3D
CALSCALE:GREGORIAN
BEGIN:VEVENT
DTSTART:20181019T140000Z
DTEND:20181021T200000Z
X-MICROSOFT-CDO-ALLDAYEVENT:FALSE
SUMMARY:32nd Annual Elkton Autumn Days
DESCRIPTION:Join the Elkton Progressive Improvement Committee for the 32nd Annual Elkton Autumn Days Arts and Crafts Festival on October 20-21 2018. Nearly 100 vendors will line the streets of downtown Elkton selling their products that are all handcrafted or handmade. Food will be availible for purchase from various vendors ranging from fried foods\, burgers\, baked beans\, chili\, cider\, ice cream and more! On Friday\, October 19\, EPIC will host a music jam session on the front lawn of the Elkton Municipal Building located at 173 West Spotswood Avenue\, Elkton.\n\n\n\nProceeds benefit the Elkton Progressive Improvement Committee an organization that was formed in 1987 to promote the Town of Elkton and enhance the community through beautification efforts and projects within the town.
X-ALT-DESC;FMTTYPE=text/html:Join the Elkton Progressive Improvement Committee for the 32nd Annual Elkton Autumn Days Arts and Crafts Festival on October 20-21 2018. Nearly 100 vendors will line the streets of downtown Elkton selling their products that are all handcrafted or handmade. Food will be availible for purchase from various vendors ranging from fried foods\, burgers\, baked beans\, chili\, cider\, ice cream and more! On Friday\, October 19\, EPIC will host a music jam session on the front lawn of the Elkton Municipal Building located at 173 West Spotswood Avenue\, Elkton.<br />\n<br />\nProceeds benefit the Elkton Progressive Improvement Committee an organization that was formed in 1987 to promote the Town of Elkton and enhance the community through beautification efforts and projects within the town.
LOCATION:West Spotswood Avenue\, Elkton\, VA 22827
UID:e.2338.6000
SEQUENCE:3
DTSTAMP:20260420T091238Z
URL:https://chamber.hrchamber.org/events/details/32nd-annual-elkton-autumn-days-6000
END:VEVENT

END:VCALENDAR
