BEGIN:VCALENDAR
VERSION:2.0
PRODID:-//ChamberMaster//Event Calendar 2.0//EN
METHOD:PUBLISH
X-PUBLISHED-TTL:P3D
REFRESH-INTERVAL:P3D
CALSCALE:GREGORIAN
BEGIN:VEVENT
DTSTART:20180505T170000Z
DTEND:20180505T193000Z
X-MICROSOFT-CDO-ALLDAYEVENT:FALSE
SUMMARY:2nd Annual Comic Con®
DESCRIPTION:Featuring in the Main Floor Meeting Rooms:\n\n \n\n1:30 PM   "Making Mini Comics" Workshop with Laura Lee Gulledge\, a Charlottesville based author and illustrator of YA graphic novels "Will & Whit\," "Page by Paige\," and the new interactive book of Sketchbook Dares. (Abrams Books).\n\n \n\n2:30 PM   "From Print to Paint: Transforming Novels into Graphic Novels\," a presentation by John K. Snyder\, III\, whose career spans three decades and includes work on projects for DC Comics' "Suicide Squad\," as well as the graphic novel versions of  Dr. Jekyll & Mr. Hyde and Joseph Conrad's Secret Agent.\n\n \n\nIn the Second Floor Community Youth Center:\n\n \n\n1:00 PM until    "Free Comic Book Day"   in partnership with The Secret Lair Comics on University Boulevard\, will distribute free comic books for all ages while supplies last.\n\n \n\n1:00-3:30 PM - activities for younger children\, including Character Crafts\, a Superhero Training Center\, Photobooth and more.\n\n \n\nDuring the afternoon\, Chris Barcomb\, author of the graphic novel series for kids "The Amazing Adventure of Superior Sam"\, will be on hand to talk about his work with attendees.\n\n \n\nAll activities are free\, family-friendly and open to the public.\n\n \n\nCostumes encouraged.\n\n \n\nComic Con  is a registered trademark of San Diego Comic Convention\, and is used by permission.\n\n \n\nBackground: \n\nThis is the second annual Comic Con . Last year's event drew over 300 attendees.\n\nhttps://mrlib.org/event/mrl-comic-con-central-library-2/
X-ALT-DESC;FMTTYPE=text/html:<br />\n<br />\n<u><strong>Featuring in the Main Floor Meeting Rooms:</strong></u><br />\n&nbsp\;<br />\n1:30 PM &ndash\; &ldquo\;Making Mini Comics&rdquo\; Workshop with Laura Lee Gulledge\, a Charlottesville based author and illustrator of YA graphic novels &ldquo\;Will &amp\; Whit\,&rdquo\; &ldquo\;Page by Paige\,&rdquo\; and the new interactive book of Sketchbook Dares. (Abrams Books).<br />\n&nbsp\;<br />\n2:30 PM &ndash\; &ldquo\;From Print to Paint: Transforming Novels into Graphic Novels\,&rdquo\; a presentation by John K. Snyder\, III\, whose career spans three decades and includes work on projects for DC Comics&rsquo\; &ldquo\;Suicide Squad\,&rdquo\; as well as the graphic novel versions of&nbsp\; <u>Dr. Jekyll &amp\; Mr. Hyde</u> and Joseph Conrad&#39\;s <u>Secret Agent</u>.<br />\n<u><strong>&nbsp\;<br />\nIn the Second Floor Community Youth Center:</strong></u><br />\n&nbsp\;<br />\n1:00 PM until &nbsp\;&ndash\; &ldquo\;Free Comic Book Day&rdquo\; &ndash\; in partnership with The Secret Lair Comics on University Boulevard\, will distribute free comic books for all ages while supplies last.<br />\n&nbsp\;<br />\n1:00-3:30 PM - activities for younger children\, including Character Crafts\, a Superhero Training Center\, Photobooth and more.<br />\n&nbsp\;<br />\nDuring the afternoon\, Chris Barcomb\, author of the graphic novel series for kids &ldquo\;The Amazing Adventure of Superior Sam&rdquo\;\, will be on hand to talk about his work with attendees.<br />\n&nbsp\;<br />\nAll activities are free\, family-friendly and open to the public.<br />\n&nbsp\;<br />\nCostumes encouraged.<br />\n&nbsp\;<br />\nComic Con&reg\; is a registered trademark of San Diego Comic Convention\, and is used by permission.<br />\n&nbsp\;<br />\n<strong>Background: </strong><br />\nThis is the second annual Comic Con&reg\;. Last year&rsquo\;s event drew over 300 attendees.<br />\n<a href="https://mrlib.org/event/mrl-comic-con-central-library-2/">https://mrlib.org/event/mrl-comic-con-central-library-2/</a>
LOCATION:Massanutten Regional Library's Central Library\, downtown Harrisonburg
UID:e.2338.5812
SEQUENCE:3
DTSTAMP:20260420T131214Z
URL:https://chamber.hrchamber.org/events/details/2nd-annual-comic-con-5812
END:VEVENT

END:VCALENDAR
