BEGIN:VCALENDAR
VERSION:2.0
PRODID:-//ChamberMaster//Event Calendar 2.0//EN
METHOD:PUBLISH
X-PUBLISHED-TTL:P3D
REFRESH-INTERVAL:P3D
CALSCALE:GREGORIAN
BEGIN:VEVENT
DTSTART:20190420T120000Z
DTEND:20190420T180000Z
X-MICROSOFT-CDO-ALLDAYEVENT:FALSE
SUMMARY:24th Annual "Chip-In" for Quality Schools Golf Tournament
DESCRIPTION:The Rockingham Educational Foundation\, Inc. (REFI) will be hosting our 24th Annual "Chip-In" for Quality Schools golf tournament on Saturday\, April 20\, 2019 at the Lakeview Golf Club\, with a shotgun start at 9:00am. All funds raised during this tournament go directly toward our Educational Grant program. Show your support by signing up today
X-ALT-DESC;FMTTYPE=text/html:<span style="color:rgb(29\, 33\, 41)\; font-family:tahoma\,sans-serif\; font-size:14px">The Rockingham Educational Foundation\, Inc. (REFI) will be hosting our 24th Annual &quot\;Chip-In&quot\; for Quality Schools golf tournament on Saturday\, April 20\, 2019 at the Lakeview Golf Club\, with a shotgun start at 9:00am. All funds raised during this tournament go directly toward our Educational Grant program. Show your support by signing up today</span>
LOCATION:Lakeview Golf Club
UID:e.2338.6515
SEQUENCE:3
DTSTAMP:20260420T002801Z
URL:https://chamber.hrchamber.org/events/details/24th-annual-chip-in-for-quality-schools-golf-tournament-6515
END:VEVENT

END:VCALENDAR
