BEGIN:VCALENDAR
VERSION:2.0
PRODID:-//ChamberMaster//Event Calendar 2.0//EN
METHOD:PUBLISH
X-PUBLISHED-TTL:P3D
REFRESH-INTERVAL:P3D
CALSCALE:GREGORIAN
BEGIN:VEVENT
DTSTART:20170512T123000Z
DTEND:20170512T190000Z
X-MICROSOFT-CDO-ALLDAYEVENT:FALSE
SUMMARY:20th Annual Golf Tournament for Pleasant View\, Inc.
DESCRIPTION:Come out to Pleasant View\, Inc.'s 20th Annual Golf Tournament to support individuals with intellectual disabilities on Friday\, May 12\, 2017 at Spotswood Country Club 1980 Country Club Road in Harrisonburg\, Virginia.  The format is Captain's Choice.  Registration will begin at 8:00 AM\, with a shotgun start at 9:10 AM. *Fees if you pay with cash or check: $100/golfer\, or $380/team of 4. If paying with PayPal\, the fee is $103/golfer\, or $389/team of 4 from our website www.pleasantviewinc.org/newsevents/ .  Team Prizes for 1st\, 2nd and 3rd Place Teams. Mulligans\, Power balls\, and 50/50 will be offered at registration. We will have closest to the pin and longest drive contests. A delicious BBQ buffet lunch catered by Hank's Smokehouse Southern Grillery will be provided in the Spotswood Country Club starting at 1:00 PM. Team prizes\, contest prizes\, and door prize drawings will be awarded after lunch. To register call Pam Miller at 540-896-8255 or email her at pmiller@pleasantivewinc.org .
X-ALT-DESC;FMTTYPE=text/html:<span style="font-family:helvetica\,sans-serif"><span style="font-size:10.5pt">Come out to <strong><u>Pleasant View\, Inc.&#39\;s 20th Annual Golf Tournament </u></strong>to support individuals with intellectual disabilities on Friday\, May 12\, 2017 at Spotswood Country Club 1980 Country Club Road in Harrisonburg\, Virginia.&nbsp\; The format is Captain&#39\;s Choice.&nbsp\; Registration will begin at 8:00 AM\, with a shotgun start at 9:10 AM.&nbsp\;*Fees if you pay with cash or check: $100/golfer\, or $380/team of 4. If paying with PayPal\, the fee is $103/golfer\, or $389/team of 4 from our website <a href="http://www.pleasantviewinc.org/newsevents/">www.pleasantviewinc.org/newsevents/</a></span></span><span style="font-family:helvetica\,sans-serif"><span style="font-size:10.5pt"> .&nbsp\; Team Prizes for 1st\, 2nd and 3rd Place Teams. Mulligans\, Power balls\, and 50/50 will be offered at registration. We will have closest to the pin and longest drive contests. A delicious BBQ buffet lunch catered by Hank&#39\;s Smokehouse Southern Grillery will be provided in the Spotswood Country Club starting at 1:00 PM. Team prizes\, contest prizes\, and door prize drawings will be awarded after lunch. To register call Pam Miller at 540-896-8255 or email her at <a href="mailto:pmiller@pleasantivewinc.org">pmiller@pleasantivewinc.org</a> .</span></span>
LOCATION:Spotswood Country Club 1980 Country Club Rd\, Harrisonburg\, Va 22802
UID:e.2338.2644
SEQUENCE:3
DTSTAMP:20260419T192034Z
URL:https://chamber.hrchamber.org/events/details/20th-annual-golf-tournament-for-pleasant-view-inc-2644
END:VEVENT

END:VCALENDAR
