BEGIN:VCALENDAR
VERSION:2.0
PRODID:-//ChamberMaster//Event Calendar 2.0//EN
METHOD:PUBLISH
X-PUBLISHED-TTL:P3D
REFRESH-INTERVAL:P3D
CALSCALE:GREGORIAN
BEGIN:VEVENT
DTSTART;VALUE=DATE:20210516
DTEND;VALUE=DATE:20210517
TRANSP:TRANSPARENT
X-MICROSOFT-CDO-ALLDAYEVENT:TRUE
SUMMARY:2021 Exhibits Phase I
DESCRIPTION:The Virginia Quilt Museum is welcoming five new exhibits for the opening of our 2021 season. With quilts from HERstory\, an exhibit curated by Susanne Jones which tells the story of women who changed the world through quilts. We also have an exhibit by Virginia's own TAVA in "What's in a Word" which explores wordplay of all types. Finally\, we have three exhibits of quilts from our permanent collection. Visit us between February 16 and July 10\, 2021\, to see these fantastic quilts!
X-ALT-DESC;FMTTYPE=text/html:The Virginia Quilt Museum is welcoming five new exhibits for the opening of our 2021 season. With quilts from HERstory\, an exhibit curated by Susanne Jones which tells the story of women who changed the world through quilts. We also have an exhibit by Virginia&#39\;s own TAVA in &quot\;What&#39\;s in a Word&quot\; which explores wordplay of all types. Finally\, we have three exhibits of quilts from our permanent collection. Visit us between February 16 and July 10\, 2021\, to see these fantastic quilts!
LOCATION:Virginia Quilt Museum 301 S Main Street Harrisonburg\, VA 22801
UID:e.2338.10386
SEQUENCE:3
DTSTAMP:20260420T191351Z
URL:https://chamber.hrchamber.org/events/details/2021-exhibits-phase-i-05-16-2021-10386
END:VEVENT

END:VCALENDAR
