BEGIN:VCALENDAR
VERSION:2.0
PRODID:-//ChamberMaster//Event Calendar 2.0//EN
METHOD:PUBLISH
X-PUBLISHED-TTL:P3D
REFRESH-INTERVAL:P3D
CALSCALE:GREGORIAN
BEGIN:VEVENT
DTSTART:20200129T170000Z
DTEND:20200129T190000Z
X-MICROSOFT-CDO-ALLDAYEVENT:FALSE
SUMMARY:2020 Market Outlook
DESCRIPTION:Please join us for a discussion on the chance of a recession\, interest rates\, trade wars\, income-producing investments\, and the impacts of the upcoming presidential election. How will the year ahead impact your retirement?\n\n\n\nReservations are required and seating is limited. Please RSVP to Constance Roach at 540.236.9220 or 877.567.6778 (toll-free) by January 27th. A complimentary meal will be provided. Friends\, family\, and co-workers welcome.
X-ALT-DESC;FMTTYPE=text/html:Please join us for a discussion on the chance of a recession\, interest rates\, trade wars\, income-producing investments\, and the impacts of the upcoming presidential election. How will the year ahead impact your retirement?<br />\n<br />\nReservations are required and seating is limited.&nbsp\;<strong>Please RSVP to Constance Roach at 540.236.9220 or 877.567.6778 (toll-free) by January 27th</strong>. A complimentary meal will be provided. Friends\, family\, and co-workers welcome.
LOCATION:Hotel Madison\, Harrisonburg\, VA
UID:e.2338.8539
SEQUENCE:3
DTSTAMP:20260419T122122Z
URL:https://chamber.hrchamber.org/events/details/2020-market-outlook-01-29-2020-8539
END:VEVENT

END:VCALENDAR
