BEGIN:VCALENDAR
VERSION:2.0
PRODID:-//ChamberMaster//Event Calendar 2.0//EN
METHOD:PUBLISH
X-PUBLISHED-TTL:P3D
REFRESH-INTERVAL:P3D
CALSCALE:GREGORIAN
BEGIN:VEVENT
DTSTART:20180320T120000Z
DTEND:20180320T190000Z
X-MICROSOFT-CDO-ALLDAYEVENT:FALSE
SUMMARY:2018 Annual Blue Ridge Safety Conference
DESCRIPTION:The Blue Ridge Safety Association is pleased to announce the 2018 Annual Blue Ridge Safety Conference\, to be held on March 20th\, 2018 at James Madison University in the Madison Union Ballroom. With the growing Opioid Crisis across the United States\, OSHA legal updates\, and the growing awareness of the importance of ergonomics in the workplace\, we have carefully chosen some of the most qualified and passionate speakers whose presentations will add great value to anyone who attends. The line-up will include: Sam Quinones: Best-selling author and journalist will discus the opioid crisis (focused on his book\, Dreamland: The True Tale of America's Opiate Epidemic) Travis Vance: Employment Litigation Attorney with Fisher Phillips will discuss recent OSHA Legal Update in a dynamic and engaging presentation. Jeff Sanford: Director of Consulting and Ergonomics Engineer for Humantech will discuss How to Quantify Assessments to Sustain an Ergonomics Process. We look forward to seeing you there! https://www.eventbrite.com/e/2018-blue-ridge-safety-conference-tickets-41559818536?aff=es2
X-ALT-DESC;FMTTYPE=text/html:The Blue Ridge Safety Association is pleased to announce the 2018 Annual Blue Ridge Safety Conference\, to be held on March 20th\, 2018 at James Madison University in the Madison Union Ballroom. With the growing Opioid Crisis across the United States\, OSHA legal updates\, and the growing awareness of the importance of ergonomics in the workplace\, we have carefully chosen some of the most qualified and passionate speakers whose presentations will add great value to anyone who attends. The line-up will include: Sam Quinones: Best-selling author and journalist will discus the opioid crisis (focused on his book\, Dreamland: The True Tale of America&rsquo\;s Opiate Epidemic) Travis Vance: Employment Litigation Attorney with Fisher Phillips will discuss recent&nbsp\;OSHA Legal Update&nbsp\;in a dynamic and engaging presentation. Jeff Sanford:&nbsp\;Director of Consulting and Ergonomics Engineer for Humantech will discuss&nbsp\;How to Quantify Assessments to Sustain an Ergonomics Process. We look forward to seeing you there! <a href="https://www.eventbrite.com/e/2018-blue-ridge-safety-conference-tickets-41559818536?aff=es2">https://www.eventbrite.com/e/2018-blue-ridge-safety-conference-tickets-41559818536?aff=es2</a>
LOCATION:James Madison University Madison Union Ballroom
UID:e.2338.3594
SEQUENCE:3
DTSTAMP:20260420T100827Z
URL:https://chamber.hrchamber.org/events/details/2018-annual-blue-ridge-safety-conference-3594
END:VEVENT

END:VCALENDAR
