BEGIN:VCALENDAR
VERSION:2.0
PRODID:-//ChamberMaster//Event Calendar 2.0//EN
METHOD:PUBLISH
X-PUBLISHED-TTL:P3D
REFRESH-INTERVAL:P3D
CALSCALE:GREGORIAN
BEGIN:VEVENT
DTSTART:20171024T120000Z
DTEND:20171024T130000Z
X-MICROSOFT-CDO-ALLDAYEVENT:FALSE
SUMMARY:2017 VA House of Delegates Candidate Forum
DESCRIPTION:Join us for breakfast to meet the candidates for Virginia House of Delegates for District 25 (parts or Albemarle\, Augusta and Rockingham counties) and District 26 (Harrisonburg\, part of Rockingham County). Incumbents Steve Landes and Tony Wilt and challengers Brent Finnegan and Angela Lynn have been invited.\n\n \n\nThe Statewide elections are only two weeks away\, so this may be your last chance to listen to and talk with candidates for these two races.
X-ALT-DESC;FMTTYPE=text/html:<span style="color:#1F497D\;"><span style="font-family:arial\,sans-serif\;"><span style="font-size:11.0pt\;">Join us for breakfast to meet the candidates for Virginia House of Delegates for District 25 (parts or Albemarle\, Augusta and Rockingham counties) and District 26 (Harrisonburg\, part of Rockingham County). Incumbents Steve Landes and Tony Wilt and challengers Brent Finnegan and Angela Lynn have been invited.</span></span></span><br />\n&nbsp\;<br />\n<span style="color:#1F497D\;"><span style="font-family:arial\,sans-serif\;"><span style="font-size:11.0pt\;">The Statewide elections are only two weeks away\, so this may be your last chance to listen to and talk with candidates for these two races.</span></span></span><br />\n&nbsp\;
LOCATION:Golden Corral\, 2335 E Market St\, Harrisonburg\, VA 22801.
UID:e.2338.3280
SEQUENCE:3
DTSTAMP:20260420T024333Z
URL:https://chamber.hrchamber.org/events/details/2017-va-house-of-delegates-candidate-forum-3280
END:VEVENT

END:VCALENDAR
