BEGIN:VCALENDAR
VERSION:2.0
PRODID:-//ChamberMaster//Event Calendar 2.0//EN
METHOD:PUBLISH
X-PUBLISHED-TTL:P3D
REFRESH-INTERVAL:P3D
CALSCALE:GREGORIAN
BEGIN:VEVENT
DTSTART:20170428T120000Z
DTEND:20170428T220000Z
X-MICROSOFT-CDO-ALLDAYEVENT:FALSE
SUMMARY:2017 JMU Duke Club Golf Classic
DESCRIPTION:This year's event will feature a morning flight at 8:00 a.m. and afternoon flight at 1:30 p.m. with a shotgun start. Cost to play in the Duke Club Golf Classic is $150/person. Registration includes a round of golf\, unlimited beverages\, pre- and post-flight hospitality\, and an exclusive JMU registration gift. The Value Pack option is available for purchase at $35/person and includes two mulligans\, one powerball\, one putting contest\, and one challenge contest. Flight preferences will be filled on a first-come\, first-served basis. Register today! Registration closes Tuesday\, April 25 at 5:00 p.m.
X-ALT-DESC;FMTTYPE=text/html:This year&#39\;s event will feature a morning flight at 8:00 a.m. and afternoon flight at 1:30 p.m. with a shotgun start. Cost to play in the Duke Club Golf Classic is $150/person. Registration includes a round of golf\, unlimited beverages\, pre- and post-flight hospitality\, and an exclusive JMU registration gift. The Value Pack option is available for purchase at $35/person and includes two mulligans\, one powerball\, one putting contest\, and one challenge contest. Flight preferences will be filled on a first-come\, first-served basis. Register today! Registration closes Tuesday\, April 25 at 5:00 p.m.
LOCATION:Spotswood Country Club in Harrisonburg\, Va.
UID:e.2338.1560
SEQUENCE:3
DTSTAMP:20260421T121100Z
URL:https://chamber.hrchamber.org/events/details/2017-jmu-duke-club-golf-classic-1560
END:VEVENT

END:VCALENDAR
