BEGIN:VCALENDAR
VERSION:2.0
PRODID:-//ChamberMaster//Event Calendar 2.0//EN
METHOD:PUBLISH
X-PUBLISHED-TTL:P3D
REFRESH-INTERVAL:P3D
CALSCALE:GREGORIAN
BEGIN:VEVENT
DTSTART;VALUE=DATE:20160930
DTEND;VALUE=DATE:20161001
TRANSP:TRANSPARENT
X-MICROSOFT-CDO-ALLDAYEVENT:TRUE
SUMMARY:2016 Skyline Literacy Charity Golf Tournament
DESCRIPTION:On Friday\, September 30\, The Skyline Literacy Board is sponsoring a four-person captain's choice tournament to benefit the work and mission of Skyline Literacy\, an organization that promotes adult literacy throughout the Harrisonburg-Rockingham Community. The event is a 9am shotgun start and will be held at Lakeview Golf Club. Cost: -$65 per individual participant -$260 to sponsor a four person team and includes Includes: -2 mulligans per golfer -50-50 raffle ticket -prizes for top three teams -lunch To register\, contact the Lakeview Golf Club Pro Shop (434.8937) for registration forms or tournament organizer\, David K. McQuilkin (540.421.6774)
X-ALT-DESC;FMTTYPE=text/html:On Friday\, September 30\, The Skyline Literacy Board is sponsoring a four-person captain&rsquo\;s choice tournament to benefit the work and mission of Skyline Literacy\, an organization that promotes adult literacy throughout the Harrisonburg-Rockingham Community. The event is a 9am shotgun start and will be held at Lakeview Golf Club. Cost: -$65 per individual participant -$260 to sponsor a four person team and includes Includes: -2 mulligans per golfer -50-50 raffle ticket -prizes for top three teams -lunch To register\, contact the Lakeview Golf Club Pro Shop (434.8937) for registration forms or tournament organizer\, David K. McQuilkin (540.421.6774)
LOCATION:Lakeview Golf Club - 4101 Shen Lake Drive Harrisonburg\, Virginia 22801
UID:e.2338.1493
SEQUENCE:3
DTSTAMP:20260421T232825Z
URL:https://chamber.hrchamber.org/events/details/2016-skyline-literacy-charity-golf-tournament-1493
END:VEVENT

END:VCALENDAR
