BEGIN:VCALENDAR
VERSION:2.0
PRODID:-//ChamberMaster//Event Calendar 2.0//EN
METHOD:PUBLISH
X-PUBLISHED-TTL:P3D
REFRESH-INTERVAL:P3D
CALSCALE:GREGORIAN
BEGIN:VEVENT
DTSTART:20180512T220000Z
DTEND:20180513T030000Z
X-MICROSOFT-CDO-ALLDAYEVENT:FALSE
SUMMARY:1st Annual Kentucky Derby Party
DESCRIPTION:Join us for The Harrisonburg-Rockingham Free Clinic's 1st Annual Kentucky Derby Party. This years event will feature a cocktail reception\, silent and live auctions as well as dinner with dancing. The attire is Derby best and will feature an interactive custom horse race projected on a large screen.\n\n\n\nThis event has SOLD OUT for the last 3 years and is possible thanks to our generous sponsors who have loyally supported the Free Clinic.
X-ALT-DESC;FMTTYPE=text/html:<span style="font-size:14px"><span style="font-family:verdana">Join us for The Harrisonburg-Rockingham Free Clinic&#39\;s 1st Annual Kentucky Derby Party. This years event will feature a cocktail reception\, silent and live auctions as well as dinner with dancing. The attire is Derby best and will feature an interactive custom horse race projected on a large screen.<br />\n<br />\nThis event has SOLD OUT for the last 3 years and is possible thanks to our generous sponsors who have loyally supported the Free Clinic.&nbsp\;</span></span>
LOCATION:Our event will be held at the new Hotel Madison\, which is located on the campus of JMU next to Madison Hall\, at the corner of Main Street and Martin Luther King Jr. Way (historic Cantrell Ave).
UID:e.2338.4757
SEQUENCE:3
DTSTAMP:20260420T131623Z
URL:https://chamber.hrchamber.org/events/details/1st-annual-kentucky-derby-party-4757
END:VEVENT

END:VCALENDAR
