BEGIN:VCALENDAR
VERSION:2.0
PRODID:-//ChamberMaster//Event Calendar 2.0//EN
METHOD:PUBLISH
X-PUBLISHED-TTL:P3D
REFRESH-INTERVAL:P3D
CALSCALE:GREGORIAN
BEGIN:VEVENT
DTSTART:20171105T150000Z
DTEND:20171105T220000Z
X-MICROSOFT-CDO-ALLDAYEVENT:FALSE
SUMMARY:17th Annual Open Studio at SoLace Studios Fine Handcrafts
DESCRIPTION:Date/Time\n\n11/04/2017 - 11/05/2017\n\n10:00 am - 5:00 pm\n\nLocation\n\nSolace Studios Fine Handcrafts\n\n193 W. Spotswood Ave.\n\nElkton\, VA 22827\n\nJoin SoLace Studios Saturday November 4 from 10-5 and Sunday November 5 from 10-5 as we appreciate our customers.  As well as weekend specials\, gift certificate giveaways\, taste the light edibles by local caterer A Bowl of Good and sip a taste of wine by Rockingham County's newest winery\, Brix & Columns.\n\nOur studio is located at 193 W. Spotswood Ave.\, Elkton\, VA 22827\n\n540-298-5222\n\nsolace@solaceinc.com\n\nHope to see  you then.\n\nSoLace Studios is located in a completely restored circa 1920's building originally housing The Kite Drug Co. In addition to the marbled silk and leather clothing and accessories by owner/artist Barb Polin\, you will find handcrafted art by over 250 regional and American craftsmen.
X-ALT-DESC;FMTTYPE=text/html:<p style="box-sizing: border-box\; margin: 0px 0px 10px\; color: rgb(51\, 49\, 121)\; font-family: Cabin\; background-color: rgb(252\, 244\, 238)\;"><span style="box-sizing: border-box\; font-weight: 700\;">Date/Time</span><br style="box-sizing: border-box\;" />\n11/04/2017 - 11/05/2017<br style="box-sizing: border-box\;" />\n<i style="box-sizing: border-box\;">10:00 am - 5:00 pm</i></p>\n\n<p style="box-sizing: border-box\; margin: 0px 0px 10px\; color: rgb(51\, 49\, 121)\; font-family: Cabin\; background-color: rgb(252\, 244\, 238)\;"><span style="box-sizing: border-box\; font-weight: 700\;">Location</span><br style="box-sizing: border-box\;" />\nSolace Studios Fine Handcrafts<br style="box-sizing: border-box\;" />\n193 W. Spotswood Ave.<br style="box-sizing: border-box\;" />\nElkton\, VA 22827</p>\n\n<p style="box-sizing: border-box\; margin: 0px 0px 10px\; color: rgb(51\, 49\, 121)\; font-family: Cabin\; background-color: rgb(252\, 244\, 238)\;">Join SoLace Studios Saturday November 4 from 10-5 and Sunday November 5 from 10-5 as we appreciate our customers.&nbsp\; As well as weekend specials\, gift certificate giveaways\, taste the light edibles by local caterer A Bowl of Good and sip a taste of wine by Rockingham County&rsquo\;s newest winery\, Brix &amp\; Columns.</p>\n\n<p style="box-sizing: border-box\; margin: 0px 0px 10px\; color: rgb(51\, 49\, 121)\; font-family: Cabin\; background-color: rgb(252\, 244\, 238)\;">Our studio is located at 193 W. Spotswood Ave.\, Elkton\, VA 22827</p>\n\n<p style="box-sizing: border-box\; margin: 0px 0px 10px\; color: rgb(51\, 49\, 121)\; font-family: Cabin\; background-color: rgb(252\, 244\, 238)\;">540-298-5222</p>\n\n<p style="box-sizing: border-box\; margin: 0px 0px 10px\; color: rgb(51\, 49\, 121)\; font-family: Cabin\; background-color: rgb(252\, 244\, 238)\;">solace@solaceinc.com</p>\n\n<p style="box-sizing: border-box\; margin: 0px 0px 10px\; color: rgb(51\, 49\, 121)\; font-family: Cabin\; background-color: rgb(252\, 244\, 238)\;">Hope to see&nbsp\; you then.</p>\n\n<p style="box-sizing: border-box\; margin: 0px 0px 10px\; color: rgb(51\, 49\, 121)\; font-family: Cabin\; background-color: rgb(252\, 244\, 238)\;">SoLace Studios is located in a completely restored circa 1920&rsquo\;s building originally housing The Kite Drug Co. In addition to the marbled silk and leather clothing and accessories by owner/artist Barb Polin\, you will find handcrafted art by over 250 regional and American craftsmen.</p>\n
LOCATION:
UID:e.2338.3312
SEQUENCE:3
DTSTAMP:20260420T041530Z
URL:https://chamber.hrchamber.org/events/details/17th-annual-open-studio-at-solace-studios-fine-handcrafts-3312
END:VEVENT

END:VCALENDAR
